BEGIN:VCALENDAR
VERSION:2.0
PRODID:-//Alcoy Industrial - Asociación del Legado Histórico Industrial de Alcoy - ECPv6.15.20//NONSGML v1.0//EN
CALSCALE:GREGORIAN
METHOD:PUBLISH
X-WR-CALNAME:Alcoy Industrial - Asociación del Legado Histórico Industrial de Alcoy
X-ORIGINAL-URL:https://www.alcoyindustrial.es
X-WR-CALDESC:Eventos para Alcoy Industrial - Asociación del Legado Histórico Industrial de Alcoy
REFRESH-INTERVAL;VALUE=DURATION:PT1H
X-Robots-Tag:noindex
X-PUBLISHED-TTL:PT1H
BEGIN:VTIMEZONE
TZID:Europe/Madrid
BEGIN:DAYLIGHT
TZOFFSETFROM:+0100
TZOFFSETTO:+0200
TZNAME:CEST
DTSTART:20200329T010000
END:DAYLIGHT
BEGIN:STANDARD
TZOFFSETFROM:+0200
TZOFFSETTO:+0100
TZNAME:CET
DTSTART:20201025T010000
END:STANDARD
BEGIN:DAYLIGHT
TZOFFSETFROM:+0100
TZOFFSETTO:+0200
TZNAME:CEST
DTSTART:20210328T010000
END:DAYLIGHT
BEGIN:STANDARD
TZOFFSETFROM:+0200
TZOFFSETTO:+0100
TZNAME:CET
DTSTART:20211031T010000
END:STANDARD
BEGIN:DAYLIGHT
TZOFFSETFROM:+0100
TZOFFSETTO:+0200
TZNAME:CEST
DTSTART:20220327T010000
END:DAYLIGHT
BEGIN:STANDARD
TZOFFSETFROM:+0200
TZOFFSETTO:+0100
TZNAME:CET
DTSTART:20221030T010000
END:STANDARD
END:VTIMEZONE
BEGIN:VEVENT
DTSTART;TZID=Europe/Madrid:20210713T090000
DTEND;TZID=Europe/Madrid:20210714T180000
DTSTAMP:20260419T191323
CREATED:20210709T191312Z
LAST-MODIFIED:20210709T191312Z
UID:8578-1626166800-1626285600@www.alcoyindustrial.es
SUMMARY:2º Curso Forja de Metal
DESCRIPTION:2ª edición del Curso de Iniciación a la Forja de metales.
URL:https://www.alcoyindustrial.es/event/2o-curso-forja-de-metal/
LOCATION:Aula C1 IES Cotes Baixes\, Alcoy\, Alicante\, 03804\, España
ORGANIZER;CN="Alcoy Industrial":MAILTO:info@alcoyindustrial.es
END:VEVENT
END:VCALENDAR