BEGIN:VCALENDAR
VERSION:2.0
PRODID:-//Alcoy Industrial - Asociación del Legado Histórico Industrial de Alcoy - ECPv6.15.20//NONSGML v1.0//EN
CALSCALE:GREGORIAN
METHOD:PUBLISH
X-WR-CALNAME:Alcoy Industrial - Asociación del Legado Histórico Industrial de Alcoy
X-ORIGINAL-URL:https://www.alcoyindustrial.es
X-WR-CALDESC:Eventos para Alcoy Industrial - Asociación del Legado Histórico Industrial de Alcoy
REFRESH-INTERVAL;VALUE=DURATION:PT1H
X-Robots-Tag:noindex
X-PUBLISHED-TTL:PT1H
BEGIN:VTIMEZONE
TZID:Europe/Madrid
BEGIN:DAYLIGHT
TZOFFSETFROM:+0100
TZOFFSETTO:+0200
TZNAME:CEST
DTSTART:20200329T010000
END:DAYLIGHT
BEGIN:STANDARD
TZOFFSETFROM:+0200
TZOFFSETTO:+0100
TZNAME:CET
DTSTART:20201025T010000
END:STANDARD
BEGIN:DAYLIGHT
TZOFFSETFROM:+0100
TZOFFSETTO:+0200
TZNAME:CEST
DTSTART:20210328T010000
END:DAYLIGHT
BEGIN:STANDARD
TZOFFSETFROM:+0200
TZOFFSETTO:+0100
TZNAME:CET
DTSTART:20211031T010000
END:STANDARD
BEGIN:DAYLIGHT
TZOFFSETFROM:+0100
TZOFFSETTO:+0200
TZNAME:CEST
DTSTART:20220327T010000
END:DAYLIGHT
BEGIN:STANDARD
TZOFFSETFROM:+0200
TZOFFSETTO:+0100
TZNAME:CET
DTSTART:20221030T010000
END:STANDARD
BEGIN:DAYLIGHT
TZOFFSETFROM:+0100
TZOFFSETTO:+0200
TZNAME:CEST
DTSTART:20230326T010000
END:DAYLIGHT
BEGIN:STANDARD
TZOFFSETFROM:+0200
TZOFFSETTO:+0100
TZNAME:CET
DTSTART:20231029T010000
END:STANDARD
BEGIN:DAYLIGHT
TZOFFSETFROM:+0100
TZOFFSETTO:+0200
TZNAME:CEST
DTSTART:20240331T010000
END:DAYLIGHT
BEGIN:STANDARD
TZOFFSETFROM:+0200
TZOFFSETTO:+0100
TZNAME:CET
DTSTART:20241027T010000
END:STANDARD
BEGIN:DAYLIGHT
TZOFFSETFROM:+0100
TZOFFSETTO:+0200
TZNAME:CEST
DTSTART:20250330T010000
END:DAYLIGHT
BEGIN:STANDARD
TZOFFSETFROM:+0200
TZOFFSETTO:+0100
TZNAME:CET
DTSTART:20251026T010000
END:STANDARD
BEGIN:DAYLIGHT
TZOFFSETFROM:+0100
TZOFFSETTO:+0200
TZNAME:CEST
DTSTART:20260329T010000
END:DAYLIGHT
BEGIN:STANDARD
TZOFFSETFROM:+0200
TZOFFSETTO:+0100
TZNAME:CET
DTSTART:20261025T010000
END:STANDARD
END:VTIMEZONE
BEGIN:VEVENT
DTSTART;TZID=Europe/Madrid:20210727T190000
DTEND;TZID=Europe/Madrid:20210727T210000
DTSTAMP:20260419T225342
CREATED:20210715T130346Z
LAST-MODIFIED:20210715T130346Z
UID:8724-1627412400-1627419600@www.alcoyindustrial.es
SUMMARY:Reunión Junta Directiva LHIA
DESCRIPTION:
URL:https://www.alcoyindustrial.es/event/reunion-junta-directiva-lhia/
LOCATION:Círculo Industrial de Alcoy.\, San Nicolás\, 19\, Alcoy\, Alicante\, 03801\, España
ORGANIZER;CN="Alcoy Industrial":MAILTO:info@alcoyindustrial.es
END:VEVENT
BEGIN:VEVENT
DTSTART;VALUE=DATE:20210922
DTEND;VALUE=DATE:20210923
DTSTAMP:20260419T225342
CREATED:20210826T130117Z
LAST-MODIFIED:20210828T153839Z
UID:8853-1632268800-1632355199@www.alcoyindustrial.es
SUMMARY:Jornada de Patrimonio Industrial de la Provincia de Alicante
DESCRIPTION:Las Jornadas de Patrimonio Industrial centran su primera edición en “El legado\ncultural industrial en la provincial de Alicante”\, donde se pretende abordar los aspectos\nrelacionados con la conservación\, puesta en valor y musealización del patrimonio\nindustrial levantino\, como modelo de preservación de un patrimonio poco conocido\,\npero muy necesario para la comprensión del legado cultural industrial ubicado en la\nprovincia de Alicante.\nAnte el avance tan acelerado de la industria actual\, tanto la puesta en valor del\npatrimonio industrial como su posterior conservación\, han ido en decadencia\,\nprovocando la desaparición y posterior olvido\, de un patrimonio muy importante para el\nconocimiento histórico de nuestra cultura.\nA través de estas jornadas\, se pretende valorar y conservar el patrimonio industrial en\nla provincia de Alicante\, comprender lo importante que es su protección para preservar y trasmitir nuestra historia y raíces.
URL:https://www.alcoyindustrial.es/event/jornada-de-patrimonio-industrial-de-la-provincia-de-alicante/
LOCATION:IVAM CADA ALCOY\, Ricogerto Albors\, 8\, Alcoy\, Alicante\, 03801\, España
ATTACH;FMTTYPE=image/png:https://www.alcoyindustrial.es/wp-content/uploads/2021/08/2021-09-22-cartel-jornada-PI-IVAM-CADA-ALCOY.png
END:VEVENT
BEGIN:VEVENT
DTSTART;TZID=Europe/Madrid:20220118T193000
DTEND;TZID=Europe/Madrid:20220118T213000
DTSTAMP:20260419T225342
CREATED:20220104T104506Z
LAST-MODIFIED:20220104T132602Z
UID:8996-1642534200-1642541400@www.alcoyindustrial.es
SUMMARY:Conferencia "El futuro de la banca y su relación con la empresa". Por Francisco Verdú y Pedro Ricondo.
DESCRIPTION:Foro Alcoy Industrial. 1ª Conferencia del Ciclo «Alcoy\, mirando su futuro». Organizado por el Círculo Industrial de Alcoy y Rafael Valls\, Asesores.
URL:https://www.alcoyindustrial.es/event/conferencia-el-futuro-de-la-banca-y-su-relacion-con-la-empresa-por-francisco-verdu-y-pedro-ricondo/
LOCATION:Círculo Industrial de Alcoy.\, San Nicolás\, 19\, Alcoy\, Alicante\, 03801\, España
END:VEVENT
BEGIN:VEVENT
DTSTART;TZID=Europe/Madrid:20250311T193000
DTEND;TZID=Europe/Madrid:20250311T203000
DTSTAMP:20260419T225342
CREATED:20250213T123216Z
LAST-MODIFIED:20250302T145227Z
UID:12861-1741721400-1741725000@www.alcoyindustrial.es
SUMMARY:Conferencia ´´Presente y futuro del Campus de Alcoy de la UPV`` por Pablo A. Bernabéu Soler
DESCRIPTION:
URL:https://www.alcoyindustrial.es/event/conferencia-presente-y-futuro-del-campus-de-alcoy-de-la-upv-por-pablo-a-bernabeu-soler/
LOCATION:Círculo Industrial de Alcoy.\, San Nicolás\, 19\, Alcoy\, Alicante\, 03801\, España
ATTACH;FMTTYPE=image/jpeg:https://www.alcoyindustrial.es/wp-content/uploads/2025/02/Imagen-de-WhatsApp-2025-02-13-a-las-11.42.10_f67470ff.jpg
END:VEVENT
BEGIN:VEVENT
DTSTART;TZID=Europe/Madrid:20250402T193000
DTEND;TZID=Europe/Madrid:20250402T203000
DTSTAMP:20260419T225342
CREATED:20250328T155646Z
LAST-MODIFIED:20250328T155646Z
UID:12948-1743622200-1743625800@www.alcoyindustrial.es
SUMMARY:BIENESTAR EN EL TRABAJO\, PROSPERIDAD PARA EMPRESA Y TRABAJADOR
DESCRIPTION:
URL:https://www.alcoyindustrial.es/event/bienestar-en-el-trabajo-prosperidad-para-empresa-y-trabajador/
LOCATION:Sala Ramón Castañer Círculo Industrial\, Alcoy
ATTACH;FMTTYPE=image/jpeg:https://www.alcoyindustrial.es/wp-content/uploads/2025/03/Imagen-de-WhatsApp-2025-03-24-a-las-13.43.51_7fd04541.jpg
END:VEVENT
BEGIN:VEVENT
DTSTART;TZID=Europe/Madrid:20250527T190000
DTEND;TZID=Europe/Madrid:20250527T203000
DTSTAMP:20260419T225342
CREATED:20250519T142820Z
LAST-MODIFIED:20250519T144400Z
UID:12999-1748372400-1748377800@www.alcoyindustrial.es
SUMMARY:------ COMO NINGUNA ------ Familia Alberola ------ MÁS DE 80 AÑOS DE LEGADO E INNOVACIÓN EMPRESARIAL
DESCRIPTION:
URL:https://www.alcoyindustrial.es/event/como-ninguna-familia-alberola-mas-de-80-anos-de-legado-e-innovacion-empresarial/
LOCATION:Salón Rotonda. Círculo Industrial de Alcoy.\, San Nicolás\, 19\, Alcoy\, Alicante\, 03801\, España
ATTACH;FMTTYPE=image/jpeg:https://www.alcoyindustrial.es/wp-content/uploads/2025/05/Imagen-de-WhatsApp-2025-05-19-a-las-10.50.27_3053c1a1.jpg
END:VEVENT
BEGIN:VEVENT
DTSTART;TZID=Europe/Madrid:20250617T193000
DTEND;TZID=Europe/Madrid:20250617T203000
DTSTAMP:20260419T225342
CREATED:20250605T162944Z
LAST-MODIFIED:20250605T163135Z
UID:13040-1750188600-1750192200@www.alcoyindustrial.es
SUMMARY:JUAN SEBASTIÁN ELCANO\, LA PRIMERA VUELTA AL MUNDO. CIEN AÑOS DEL BUQUE ESCUELA
DESCRIPTION:
URL:https://www.alcoyindustrial.es/event/juan-sebastian-elcano-la-primera-vuelta-al-mundo-cien-anos-del-buque-escuela/
LOCATION:Sala Ramón Castañer Círculo Industrial\, Alcoy
ATTACH;FMTTYPE=image/jpeg:https://www.alcoyindustrial.es/wp-content/uploads/2025/06/Imagen-de-WhatsApp-2025-06-05-a-las-08.21.19_ca89615f.jpg
END:VEVENT
BEGIN:VEVENT
DTSTART;TZID=Europe/Madrid:20250916T193000
DTEND;TZID=Europe/Madrid:20250916T203000
DTSTAMP:20260419T225342
CREATED:20250911T105831Z
LAST-MODIFIED:20250911T110914Z
UID:13072-1758051000-1758054600@www.alcoyindustrial.es
SUMMARY:ALHAMBRA GUITARRAS\, 60 AÑOS DE MÚSICA  ARTESANA
DESCRIPTION:
URL:https://www.alcoyindustrial.es/event/alhambra-guitarras-60-anos-de-musica-artesana/
LOCATION:Sala Ramón Castañer Círculo Industrial\, Alcoy
ATTACH;FMTTYPE=image/jpeg:https://www.alcoyindustrial.es/wp-content/uploads/2025/09/Imagen-de-WhatsApp-2025-09-08-a-las-18.20.21_44bb56e6.jpg
END:VEVENT
BEGIN:VEVENT
DTSTART;TZID=Europe/Madrid:20251028T193000
DTEND;TZID=Europe/Madrid:20251028T203000
DTSTAMP:20260419T225342
CREATED:20251017T182118Z
LAST-MODIFIED:20251017T182118Z
UID:13083-1761679800-1761683400@www.alcoyindustrial.es
SUMMARY:Plan General Estructural de Alcoy. Planificación Urbanística o Estrategia
DESCRIPTION:
URL:https://www.alcoyindustrial.es/event/plan-general-estructural-de-alcoy-planificacion-urbanistica-o-estrategia/
LOCATION:Sala Ramón Castañer Círculo Industrial\, Alcoy
ATTACH;FMTTYPE=image/jpeg:https://www.alcoyindustrial.es/wp-content/uploads/2025/10/Imagen-de-WhatsApp-2025-10-14-a-las-13.27.28_d6b34cf3.jpg
END:VEVENT
END:VCALENDAR